Workbook

Sheet 依頼書
L1: タカラバイオ株式会社 宛
A2: TaKaRa Custom Services
A3: 16S rRNA解析（細菌叢解析）／ショットガンメタゲノム解析 発注依頼書
A5: 1 | B5: ご依頼日(必須) | M5: 年 | P5: 月 | S5: 日
A6: 2 | B6: ご依頼者 (必須) | E6: （フリガナ）
E7: 氏名
E8: 所属
E9: 所在地 | H9: 〒
E11: TEL | O11: （内線）
E12: E-mail
B13: ※お客様の個人情報は、その保護・管理の徹底をはかり、お客様の同意なしに、第三者（業務委託先を除く）に開示することはありません。ただし、法令等にもとづき情報開示を要請された場合など、必要な範囲において情報を開示する場合があります。
B15: ※今後弊社から新製品・キャンペーン・セミナー情報などをお知らせしてもよろしいですか？ (必須)
J16: e-mailでのご案内の送信： | Q16: □ | R16: 必要 | T16: □ | U16: 不要
A17: 3 | B17: 販売店 (必須) | E17: 会社名 | S17: 担当者
E18: 所在地 | H18: 〒
E20: TEL
A21: 4 | B21: 解析結果送付先 | I21: □ | J21: クラウド納品 | N21: ※ご依頼内容によって、対応できない場合もございます。
I22: □ | J22: メディア納品（HDD等）
J23: □ | K23: 販売店送付 | O23: □ | P23: ご依頼者直送 | T23: ※チェックのない場合は、販売店宛に送付いたします。
A24: 5 | B24: 見積番号 (必須) | P24: （弊社より参考見積書を提出した場合、番号を記載ください。）
A25: 6 | B25: 作業内容 (必須)
B26: □ | D26: 16S rRNA解析(細菌叢解析） ※別紙サンプル情報とグループ情報も記入の上、提出ください。
E27: 16S rRNA解析オプション | O27: □ | P27: 菌叢統計比較解析
B28: □ | D28: ショットガンメタゲノム解析 ※別紙サンプル情報とグループ情報も記入の上、提出ください。
E29: ショットガンメタゲノム解析 情報解析オプション
E30: □ | F30: ショットガンメタゲノム解析（系統分類まで） | P30: □ | Q30: ショットガンメタゲノム解析（系統分類, 遺伝子機能解析）
B31: □ | D31: その他 | F31: （ | AB31: ）
A32: 7 | B32: 送付検体数 (必須) | H32: 送付検体数（ | O32: ）検体
B33: ※お客様より提供いただいたサンプル・情報および納品物の複製物は別途期限を定めている場合を除き、 業務終了後3ヶ月間保管の後、順次廃棄いたします。
B35: ※ご不明な点は空欄のままで結構です。必要に応じて弊社担当者よりご確認のためご連絡させていただきます。
B36: ･サンプル調製方法 （ご使用のキット、フェノール・クロロホルム抽出の有無など）
B39: ･解析対象以外の核酸混入の可能性があればお知らせください。 (Salmon sperm、ホスト由来ゲノムDNAなど)
A44: 8 | B44: サンプル種別 (必須) | H44: □ | J44: ゲノムDNA | N44: □ | O44: 糞便(採便キット採取) | U44: □ | V44: 凍結糞便
H45: □ | J45: その他（ | AC45: ）
A46: 9 | B46: サンプル由来 生物種 (必須) | H46: □ | J46: ヒト | L46: □ | N46: マウス | Q46: □ | S46: その他（ | AC46: )
H47: ＜* ヒト試料・情報を提供いただく場合 必須 ＞
H48: タカラバイオ社 「ヒト試料・情報の取り扱いについて」を確認いただき、お客様ご所属施設の倫理委員会等で承認され、匿名化された検体を提供ください。
H49: ヒト試料・情報の取り扱いについて
H50: □ | J50: ヒト試料・情報の提供にあたり、上記確認のうえ依頼します。 ←該当する場合は、左の□にチェック（✓）をご記入ください。
A51: 10 | B51: 溶解buffer (必須) | H51: □ | J51: dH2O | L51: □ | N51: TE buffer | Q51: □ | S51: その他（ | AC51: )
A52: 11 | B52: その他ご要望事項
A55: 12 | B55: 検体発送（予定）日 | M55: 年 | P55: 月 | S55: 日 | U55: □ | W55: 発送 | Y55: □ | AA55: 頃予定

Sheet 検体情報_16S
M1: タカラバイオ株式会社 宛
A2: TaKaRa Custom Services
A3: 16S rRNA解析（細菌叢解析） サンプル情報シート
A4: ※弊社送付の採便キットを使用の場合は、サンプル情報_(採便キット用) サンプルシートに記載ください。
A5: 氏名 | C5: =IF(依頼書!H7="","",依頼書!H7) -> 0
A6: 所属 | C6: =IF(依頼書!H8="","",依頼書!H8) -> 0
A7: 送付サンプル | C7: □ | D7: チューブ | F7: □ | G7: プレート | H7: ※DNAサンプル 24検体以上はプレート提供でお願いいたします。
A8: プレート名 | C8: ( | J8: ) 複数プレートの場合はこのシートをコピーしてご使用ください。
A9: サンプル情報 | I9: ※抽出DNAをご提供の場合は全項目を記載ください。 抽出DNAの場合のサンプル量には、DNA抽出に供したサンプル量を記載ください。 ※糞便、土壌、唾液をご提供の場合は太字項目（サンプル重量、単位）のみを記載ください。
A10: No. | B10: well | C10: サンプル名称 (半角英数字および.(ﾄﾞｯﾄ)、_(ｱﾝﾀﾞｰﾊﾞｰ)のみご使用ください。 数字のみ、-(ﾊｲﾌﾝ)は使用出来ません。) | I10: サンプル量 | J10: サンプル単位 (mg, mLなど) | K10: DNA抽出時の 溶出液量 (µL) | L10: 抽出DNA 濃度 (ng/µL) | M10: 送付液量 (µL)
A11: 例 | B11: - | C11: Stool_DNA01 | I11: 550 | J11: mg | K11: 60 | L11: 55 | M11: 30
A12: 例 | B12: - | C12: Soil | I12: 500 | J12: mg | K12: - | L12: - | M12: -
A13: 1 | B13: A01
A14: 2 | B14: B01
A15: 3 | B15: C01
A16: 4 | B16: D01
A17: 5 | B17: E01
A18: 6 | B18: F01
A19: 7 | B19: G01
A20: 8 | B20: H01
A21: 9 | B21: A02
A22: 10 | B22: B02
A23: 11 | B23: C02
A24: 12 | B24: D02
... A105: 93 | B105: E12
A106: 94 | B106: F12 | C106: 空ウェル
A107: 95 | B107: G12 | C107: 空ウェル
A108: 96 | B108: H12 | C108: 空ウェル

Sheet 検体情報_採便キット
A1: 16S rRNA解析 サンプル情報シート
A2: 弊社ID | C2: 氏名 | D2: =IF(依頼書!$H$7="", "",依頼書!$H$7) -> 0
C3: 所属 | D3: =IF(依頼書!$H$8="", "",依頼書!$H$8) -> 0
A4: ※サンプル名称は「サンプル情報記載シート_16s定量」の情報が反映されます。 半角英数字および.(ﾄﾞｯﾄ)、_(ｱﾝﾀﾞｰﾊﾞｰ)のみご使用ください。数字のみ、-(ﾊｲﾌﾝ)は使用出来ません。
A5: ※採便キットご利用の場合は、16s解析におけるサンプル中の16sコピー数の定量結果は算出されません。
A6: ※ 112検体以上はページをコピーして追記してください。
A7: 検体No. | B7: サンプル名称 | C7: バーコードID | E7: 検体No. | F7: サンプル名称 | G7: バーコードID
A8: 1 | B8: =VLOOKUP(A8,検体情報_16S!$A$13:$H$1048576,3,FALSE) -> 0 | C8: バーコードシール 貼り付け | E8: 15 | F8: =VLOOKUP(E8,検体情報_16S!$A$13:$H$1048576,3,FALSE) -> 0 | G8: バーコードシール 貼り付け
A9: 2 | B9: =VLOOKUP(A9,検体情報_16S!$A$13:$H$1048576,3,FALSE) -> 0 | C9: バーコードシール 貼り付け | E9: 16 | F9: =VLOOKUP(E9,検体情報_16S!$A$13:$H$1048576,3,FALSE) -> 0 | G9: バーコードシール 貼り付け
A10: 3 | B10: =VLOOKUP(A10,検体情報_16S!$A$13:$H$1048576,3,FALSE) -> 0 | C10: バーコードシール 貼り付け | E10: 17 | F10: =VLOOKUP(E10,検体情報_16S!$A$13:$H$1048576,3,FALSE) -> 0 | G10: バーコードシール 貼り付け
A11: 4 | B11: =VLOOKUP(A11,検体情報_16S!$A$13:$H$1048576,3,FALSE) -> 0 | C11: バーコードシール 貼り付け | E11: 18 | F11: =VLOOKUP(E11,検体情報_16S!$A$13:$H$1048576,3,FALSE) -> 0 | G11: バーコードシール 貼り付け
A12: 5 | B12: =VLOOKUP(A12,検体情報_16S!$A$13:$H$1048576,3,FALSE) -> 0 | C12: バーコードシール 貼り付け | E12: 19 | F12: =VLOOKUP(E12,検体情報_16S!$A$13:$H$1048576,3,FALSE) -> 0 | G12: バーコードシール 貼り付け
A13: 6 | B13: =VLOOKUP(A13,検体情報_16S!$A$13:$H$1048576,3,FALSE) -> 0 | C13: バーコードシール 貼り付け | E13: 20 | F13: =VLOOKUP(E13,検体情報_16S!$A$13:$H$1048576,3,FALSE) -> 0 | G13: バーコードシール 貼り付け
A14: 7 | B14: =VLOOKUP(A14,検体情報_16S!$A$13:$H$1048576,3,FALSE) -> 0 | C14: バーコードシール 貼り付け | E14: 21 | F14: =VLOOKUP(E14,検体情報_16S!$A$13:$H$1048576,3,FALSE) -> 0 | G14: バーコードシール 貼り付け
A15: 8 | B15: =VLOOKUP(A15,検体情報_16S!$A$13:$H$1048576,3,FALSE) -> 0 | C15: バーコードシール 貼り付け | E15: 22 | F15: =VLOOKUP(E15,検体情報_16S!$A$13:$H$1048576,3,FALSE) -> 0 | G15: バーコードシール 貼り付け
A16: 9 | B16: =VLOOKUP(A16,検体情報_16S!$A$13:$H$1048576,3,FALSE) -> 0 | C16: バーコードシール 貼り付け | E16: 23 | F16: =VLOOKUP(E16,検体情報_16S!$A$13:$H$1048576,3,FALSE) -> 0 | G16: バーコードシール 貼り付け
A17: 10 | B17: =VLOOKUP(A17,検体情報_16S!$A$13:$H$1048576,3,FALSE) -> 0 | C17: バーコードシール 貼り付け | E17: 24 | F17: =VLOOKUP(E17,検体情報_16S!$A$13:$H$1048576,3,FALSE) -> 0 | G17: バーコードシール 貼り付け
A18: 11 | B18: =VLOOKUP(A18,検体情報_16S!$A$13:$H$1048576,3,FALSE) -> 0 | C18: バーコードシール 貼り付け | E18: 25 | F18: =VLOOKUP(E18,検体情報_16S!$A$13:$H$1048576,3,FALSE) -> 0 | G18: バーコードシール 貼り付け
A19: 12 | B19: =VLOOKUP(A19,検体情報_16S!$A$13:$H$1048576,3,FALSE) -> 0 | C19: バーコードシール 貼り付け | E19: 26 | F19: =VLOOKUP(E19,検体情報_16S!$A$13:$H$1048576,3,FALSE) -> 0 | G19: バーコードシール 貼り付け
... A21: 14 | B21: =VLOOKUP(A21,検体情報_16S!$A$13:$H$1048576,3,FALSE) -> 0 | C21: バーコードシール 貼り付け | E21: 28 | F21: =VLOOKUP(E21,検体情報_16S!$A$13:$H$1048576,3,FALSE) -> 0 | G21: バーコードシール 貼り付け
A22: 16S rRNA解析 サンプル情報シート
A23: 弊社ID | B23: =IF(B2="","",B2) -> 0 | C23: 氏名 | D23: =IF(依頼書!$H$7="", "",依頼書!$H$7) -> 0
C24: 所属 | D24: =IF(依頼書!$H$8="", "",依頼書!$H$8) -> 0
A25: =A4 -> 0
A26: =A5 -> 0
A27: =A6 -> 0
A28: 検体No. | B28: サンプル名称 | C28: バーコードID | E28: 検体No. | F28: サンプル名称 | G28: バーコードID
A29: 29 | B29: =VLOOKUP(A29,検体情報_16S!$A$13:$H$1048576,3,FALSE) -> 0 | C29: バーコードシール 貼り付け | E29: 43 | F29: =VLOOKUP(E29,検体情報_16S!$A$13:$H$1048576,3,FALSE) -> 0 | G29: バーコードシール 貼り付け
A30: 30 | B30: =VLOOKUP(A30,検体情報_16S!$A$13:$H$1048576,3,FALSE) -> 0 | C30: バーコードシール 貼り付け | E30: 44 | F30: =VLOOKUP(E30,検体情報_16S!$A$13:$H$1048576,3,FALSE) -> 0 | G30: バーコードシール 貼り付け
A31: 31 | B31: =VLOOKUP(A31,検体情報_16S!$A$13:$H$1048576,3,FALSE) -> 0 | C31: バーコードシール 貼り付け | E31: 45 | F31: =VLOOKUP(E31,検体情報_16S!$A$13:$H$1048576,3,FALSE) -> 0 | G31: バーコードシール 貼り付け
A32: 32 | B32: =VLOOKUP(A32,検体情報_16S!$A$13:$H$1048576,3,FALSE) -> 0 | C32: バーコードシール 貼り付け | E32: 46 | F32: =VLOOKUP(E32,検体情報_16S!$A$13:$H$1048576,3,FALSE) -> 0 | G32: バーコードシール 貼り付け
A33: 33 | B33: =VLOOKUP(A33,検体情報_16S!$A$13:$H$1048576,3,FALSE) -> 0 | C33: バーコードシール 貼り付け | E33: 47 | F33: =VLOOKUP(E33,検体情報_16S!$A$13:$H$1048576,3,FALSE) -> 0 | G33: バーコードシール 貼り付け
A34: 34 | B34: =VLOOKUP(A34,検体情報_16S!$A$13:$H$1048576,3,FALSE) -> 0 | C34: バーコードシール 貼り付け | E34: 48 | F34: =VLOOKUP(E34,検体情報_16S!$A$13:$H$1048576,3,FALSE) -> 0 | G34: バーコードシール 貼り付け
A35: 35 | B35: =VLOOKUP(A35,検体情報_16S!$A$13:$H$1048576,3,FALSE) -> 0 | C35: バーコードシール 貼り付け | E35: 49 | F35: =VLOOKUP(E35,検体情報_16S!$A$13:$H$1048576,3,FALSE) -> 0 | G35: バーコードシール 貼り付け
A36: 36 | B36: =VLOOKUP(A36,検体情報_16S!$A$13:$H$1048576,3,FALSE) -> 0 | C36: バーコードシール 貼り付け | E36: 50 | F36: =VLOOKUP(E36,検体情報_16S!$A$13:$H$1048576,3,FALSE) -> 0 | G36: バーコードシール 貼り付け
A37: 37 | B37: =VLOOKUP(A37,検体情報_16S!$A$13:$H$1048576,3,FALSE) -> 0 | C37: バーコードシール 貼り付け | E37: 51 | F37: =VLOOKUP(E37,検体情報_16S!$A$13:$H$1048576,3,FALSE) -> 0 | G37: バーコードシール 貼り付け
A38: 38 | B38: =VLOOKUP(A38,検体情報_16S!$A$13:$H$1048576,3,FALSE) -> 0 | C38: バーコードシール 貼り付け | E38: 52 | F38: =VLOOKUP(E38,検体情報_16S!$A$13:$H$1048576,3,FALSE) -> 0 | G38: バーコードシール 貼り付け
A39: 39 | B39: =VLOOKUP(A39,検体情報_16S!$A$13:$H$1048576,3,FALSE) -> 0 | C39: バーコードシール 貼り付け | E39: 53 | F39: =VLOOKUP(E39,検体情報_16S!$A$13:$H$1048576,3,FALSE) -> 0 | G39: バーコードシール 貼り付け
A40: 40 | B40: =VLOOKUP(A40,検体情報_16S!$A$13:$H$1048576,3,FALSE) -> 0 | C40: バーコードシール 貼り付け | E40: 54 | F40: =VLOOKUP(E40,検体情報_16S!$A$13:$H$1048576,3,FALSE) -> 0 | G40: バーコードシール 貼り付け
... A42: 42 | B42: =VLOOKUP(A42,検体情報_16S!$A$13:$H$1048576,3,FALSE) -> 0 | C42: バーコードシール 貼り付け | E42: 56 | F42: =VLOOKUP(E42,検体情報_16S!$A$13:$H$1048576,3,FALSE) -> 0 | G42: バーコードシール 貼り付け
A43: 16S rRNA解析 サンプル情報シート
A44: 弊社ID | B44: =IF(B2="","",B2) -> 0 | C44: 氏名 | D44: =IF(依頼書!$H$7="", "",依頼書!$H$7) -> 0
C45: 所属 | D45: =IF(依頼書!$H$8="", "",依頼書!$H$8) -> 0
A46: =A25 -> 0
A47: =A26 -> 0
A48: =A27 -> 0
A49: 検体No. | B49: サンプル名称 | C49: バーコードID | E49: 検体No. | F49: サンプル名称 | G49: バーコードID
A50: 57 | B50: =VLOOKUP(A50,検体情報_16S!$A$13:$H$1048576,3,FALSE) -> 0 | C50: バーコードシール 貼り付け | E50: 71 | F50: =VLOOKUP(E50,検体情報_16S!$A$13:$H$1048576,3,FALSE) -> 0 | G50: バーコードシール 貼り付け
A51: 58 | B51: =VLOOKUP(A51,検体情報_16S!$A$13:$H$1048576,3,FALSE) -> 0 | C51: バーコードシール 貼り付け | E51: 72 | F51: =VLOOKUP(E51,検体情報_16S!$A$13:$H$1048576,3,FALSE) -> 0 | G51: バーコードシール 貼り付け
A52: 59 | B52: =VLOOKUP(A52,検体情報_16S!$A$13:$H$1048576,3,FALSE) -> 0 | C52: バーコードシール 貼り付け | E52: 73 | F52: =VLOOKUP(E52,検体情報_16S!$A$13:$H$1048576,3,FALSE) -> 0 | G52: バーコードシール 貼り付け
A53: 60 | B53: =VLOOKUP(A53,検体情報_16S!$A$13:$H$1048576,3,FALSE) -> 0 | C53: バーコードシール 貼り付け | E53: 74 | F53: =VLOOKUP(E53,検体情報_16S!$A$13:$H$1048576,3,FALSE) -> 0 | G53: バーコードシール 貼り付け
A54: 61 | B54: =VLOOKUP(A54,検体情報_16S!$A$13:$H$1048576,3,FALSE) -> 0 | C54: バーコードシール 貼り付け | E54: 75 | F54: =VLOOKUP(E54,検体情報_16S!$A$13:$H$1048576,3,FALSE) -> 0 | G54: バーコードシール 貼り付け
A55: 62 | B55: =VLOOKUP(A55,検体情報_16S!$A$13:$H$1048576,3,FALSE) -> 0 | C55: バーコードシール 貼り付け | E55: 76 | F55: =VLOOKUP(E55,検体情報_16S!$A$13:$H$1048576,3,FALSE) -> 0 | G55: バーコードシール 貼り付け
A56: 63 | B56: =VLOOKUP(A56,検体情報_16S!$A$13:$H$1048576,3,FALSE) -> 0 | C56: バーコードシール 貼り付け | E56: 77 | F56: =VLOOKUP(E56,検体情報_16S!$A$13:$H$1048576,3,FALSE) -> 0 | G56: バーコードシール 貼り付け
A57: 64 | B57: =VLOOKUP(A57,検体情報_16S!$A$13:$H$1048576,3,FALSE) -> 0 | C57: バーコードシール 貼り付け | E57: 78 | F57: =VLOOKUP(E57,検体情報_16S!$A$13:$H$1048576,3,FALSE) -> 0 | G57: バーコードシール 貼り付け
A58: 65 | B58: =VLOOKUP(A58,検体情報_16S!$A$13:$H$1048576,3,FALSE) -> 0 | C58: バーコードシール 貼り付け | E58: 79 | F58: =VLOOKUP(E58,検体情報_16S!$A$13:$H$1048576,3,FALSE) -> 0 | G58: バーコードシール 貼り付け
A59: 66 | B59: =VLOOKUP(A59,検体情報_16S!$A$13:$H$1048576,3,FALSE) -> 0 | C59: バーコードシール 貼り付け | E59: 80 | F59: =VLOOKUP(E59,検体情報_16S!$A$13:$H$1048576,3,FALSE) -> 0 | G59: バーコードシール 貼り付け
A60: 67 | B60: =VLOOKUP(A60,検体情報_16S!$A$13:$H$1048576,3,FALSE) -> 0 | C60: バーコードシール 貼り付け | E60: 81 | F60: =VLOOKUP(E60,検体情報_16S!$A$13:$H$1048576,3,FALSE) -> 0 | G60: バーコードシール 貼り付け
A61: 68 | B61: =VLOOKUP(A61,検体情報_16S!$A$13:$H$1048576,3,FALSE) -> 0 | C61: バーコードシール 貼り付け | E61: 82 | F61: =VLOOKUP(E61,検体情報_16S!$A$13:$H$1048576,3,FALSE) -> 0 | G61: バーコードシール 貼り付け
... A63: 70 | B63: =VLOOKUP(A63,検体情報_16S!$A$13:$H$1048576,3,FALSE) -> 0 | C63: バーコードシール 貼り付け | E63: 84 | F63: =VLOOKUP(E63,検体情報_16S!$A$13:$H$1048576,3,FALSE) -> 0 | G63: バーコードシール 貼り付け
A64: 16S rRNA解析 サンプル情報シート
A65: 弊社ID | B65: =IF(B2="","",B2) -> 0 | C65: 氏名 | D65: =IF(依頼書!$H$7="", "",依頼書!$H$7) -> 0
C66: 所属 | D66: =IF(依頼書!$H$8="", "",依頼書!$H$8) -> 0
A67: =A46 -> 0
A68: =A47 -> 0
A69: =A48 -> 0
A70: 検体No. | B70: サンプル名称 | C70: バーコードID | E70: 検体No. | F70: サンプル名称 | G70: バーコードID
A71: 85 | B71: =VLOOKUP(A71,検体情報_16S!$A$13:$H$1048576,3,FALSE) -> 0 | C71: バーコードシール 貼り付け | E71: 99 | F71: =VLOOKUP(E71,検体情報_16S!$A$13:$H$1048576,3,FALSE) -> 0 | G71: バーコードシール 貼り付け
A72: 86 | B72: =VLOOKUP(A72,検体情報_16S!$A$13:$H$1048576,3,FALSE) -> 0 | C72: バーコードシール 貼り付け | E72: 100 | F72: =VLOOKUP(E72,検体情報_16S!$A$13:$H$1048576,3,FALSE) -> 0 | G72: バーコードシール 貼り付け
A73: 87 | B73: =VLOOKUP(A73,検体情報_16S!$A$13:$H$1048576,3,FALSE) -> 0 | C73: バーコードシール 貼り付け | E73: 101 | F73: =VLOOKUP(E73,検体情報_16S!$A$13:$H$1048576,3,FALSE) -> 0 | G73: バーコードシール 貼り付け
A74: 88 | B74: =VLOOKUP(A74,検体情報_16S!$A$13:$H$1048576,3,FALSE) -> 0 | C74: バーコードシール 貼り付け | E74: 102 | F74: =VLOOKUP(E74,検体情報_16S!$A$13:$H$1048576,3,FALSE) -> 0 | G74: バーコードシール 貼り付け
A75: 89 | B75: =VLOOKUP(A75,検体情報_16S!$A$13:$H$1048576,3,FALSE) -> 0 | C75: バーコードシール 貼り付け | E75: 103 | F75: =VLOOKUP(E75,検体情報_16S!$A$13:$H$1048576,3,FALSE) -> 0 | G75: バーコードシール 貼り付け
A76: 90 | B76: =VLOOKUP(A76,検体情報_16S!$A$13:$H$1048576,3,FALSE) -> 0 | C76: バーコードシール 貼り付け | E76: 104 | F76: =VLOOKUP(E76,検体情報_16S!$A$13:$H$1048576,3,FALSE) -> 0 | G76: バーコードシール 貼り付け
A77: 91 | B77: =VLOOKUP(A77,検体情報_16S!$A$13:$H$1048576,3,FALSE) -> 0 | C77: バーコードシール 貼り付け | E77: 105 | F77: =VLOOKUP(E77,検体情報_16S!$A$13:$H$1048576,3,FALSE) -> 0 | G77: バーコードシール 貼り付け
A78: 92 | B78: =VLOOKUP(A78,検体情報_16S!$A$13:$H$1048576,3,FALSE) -> 0 | C78: バーコードシール 貼り付け | E78: 106 | F78: =VLOOKUP(E78,検体情報_16S!$A$13:$H$1048576,3,FALSE) -> 0 | G78: バーコードシール 貼り付け
A79: 93 | B79: =VLOOKUP(A79,検体情報_16S!$A$13:$H$1048576,3,FALSE) -> 0 | C79: バーコードシール 貼り付け | E79: 107 | F79: =VLOOKUP(E79,検体情報_16S!$A$13:$H$1048576,3,FALSE) -> 0 | G79: バーコードシール 貼り付け
A80: 94 | B80: =VLOOKUP(A80,検体情報_16S!$A$13:$H$1048576,3,FALSE) -> 0 | C80: バーコードシール 貼り付け | E80: 108 | F80: =VLOOKUP(E80,検体情報_16S!$A$13:$H$1048576,3,FALSE) -> 0 | G80: バーコードシール 貼り付け
A81: 95 | B81: =VLOOKUP(A81,検体情報_16S!$A$13:$H$1048576,3,FALSE) -> 0 | C81: バーコードシール 貼り付け | E81: 109 | F81: =VLOOKUP(E81,検体情報_16S!$A$13:$H$1048576,3,FALSE) -> 0 | G81: バーコードシール 貼り付け
A82: 96 | B82: =VLOOKUP(A82,検体情報_16S!$A$13:$H$1048576,3,FALSE) -> 0 | C82: バーコードシール 貼り付け | E82: 110 | F82: =VLOOKUP(E82,検体情報_16S!$A$13:$H$1048576,3,FALSE) -> 0 | G82: バーコードシール 貼り付け
... A84: 98 | B84: =VLOOKUP(A84,検体情報_16S!$A$13:$H$1048576,3,FALSE) -> 0 | C84: バーコードシール 貼り付け | E84: 112 | F84: =VLOOKUP(E84,検体情報_16S!$A$13:$H$1048576,3,FALSE) -> 0 | G84: バーコードシール 貼り付け

Sheet グループ情報_16S
B1: 16S rRNA解析（細菌叢解析） グループ情報
B2: 氏名
B3: 所属
B4: グループ情報記載欄には、実験setごとにグループ情報を記載ください。
B6: ※サンプル名称には半角英数字および.(ﾄﾞｯﾄ)、_(ｱﾝﾀﾞｰﾊﾞｰ)のみご使用ください。 半角数字のみ、-(ﾊｲﾌﾝ)は使用出来ません。
B7: ※グループ情報、グループset名には半角英数字および _(ｱﾝﾀﾞｰﾊﾞｰ)、-(ﾊｲﾌﾝ)のみご使用ください。半角数字のみはご使用できません。
B8: ※解析の比較グループSetは最大４Setまで指定いただけます。4Set以上をご希望の場合はご相談ください。
B9: ※グループを指定しない場合は"-"のままとしてください。またグループset内で比較に使用しないサンプルについても"-"のままとしてください。
B10: その場合"-"というグループ情報で解析されますので、ご了承ください。
B12: グループ情報記載例と使用例は下記webページをご参照ください。
B13: https://catalog.takara-bio.co.jp/product/basic_info.php?unitid=U100009401
B14: 検体 No | C14: サンプル名称 （検体No.とサンプル名称は「サンプル情報シート」の記載と必ず揃えてください。） | D14: グループ情報 （セット名は必要に応じて変更可能です）
D15: SetA | E15: SetB | F15: SetC | G15: SetD
B16: 1 | C16: =IF(検体情報_16S!C13="","",検体情報_16S!C13) -> 0 | D16: - | E16: - | F16: - | G16: -
B17: 2 | C17: =IF(検体情報_16S!C14="","",検体情報_16S!C14) -> 0 | D17: - | E17: - | F17: - | G17: -
B18: 3 | C18: =IF(検体情報_16S!C15="","",検体情報_16S!C15) -> 0 | D18: - | E18: - | F18: - | G18: -
B19: 4 | C19: =IF(検体情報_16S!C16="","",検体情報_16S!C16) -> 0 | D19: - | E19: - | F19: - | G19: -
B20: 5 | C20: =IF(検体情報_16S!C17="","",検体情報_16S!C17) -> 0 | D20: - | E20: - | F20: - | G20: -
B21: 6 | C21: =IF(検体情報_16S!C18="","",検体情報_16S!C18) -> 0 | D21: - | E21: - | F21: - | G21: -
B22: 7 | C22: =IF(検体情報_16S!C19="","",検体情報_16S!C19) -> 0 | D22: - | E22: - | F22: - | G22: -
B23: 8 | C23: =IF(検体情報_16S!C20="","",検体情報_16S!C20) -> 0 | D23: - | E23: - | F23: - | G23: -
B24: 9 | C24: =IF(検体情報_16S!C21="","",検体情報_16S!C21) -> 0 | D24: - | E24: - | F24: - | G24: -
B25: 10 | C25: =IF(検体情報_16S!C22="","",検体情報_16S!C22) -> 0 | D25: - | E25: - | F25: - | G25: -
B26: 11 | C26: =IF(検体情報_16S!C23="","",検体情報_16S!C23) -> 0 | D26: - | E26: - | F26: - | G26: -
B27: 12 | C27: =IF(検体情報_16S!C24="","",検体情報_16S!C24) -> 0 | D27: - | E27: - | F27: - | G27: -
... B111: 96 | C111: =IF(検体情報_16S!C108="","",検体情報_16S!C108) -> 0 | D111: - | E111: - | F111: - | G111: -

Sheet 16S_サマリーシート
A1: No. | B1: well | C1: サンプル名称 | D1: サンプル重量 | E1: サンプル単位 (mg, mm2など) | F1: DNA抽出時の 溶出液量 (µL) | G1: 抽出DNA 濃度 (ng/µL) | H1: 送付液量 (µL) | I1: =グループ情報_16S!D15 -> 0 | J1: =グループ情報_16S!E15 -> 0 | K1: =グループ情報_16S!F15 -> 0 | L1: =グループ情報_16S!G15 -> 0
A2: 1 | B2: A01 | C2: =VLOOKUP(A2,検体情報_16S!$A$13:$M$1048576,3,FALSE) -> 0 | D2: =VLOOKUP(A2,検体情報_16S!$A$13:$M$1048576,9,FALSE) -> 0 | E2: =VLOOKUP(A2,検体情報_16S!$A$13:$M$1048576,10,FALSE) -> 0 | F2: =VLOOKUP(A2,検体情報_16S!$A$13:$M$1048576,11,FALSE) -> 0 | G2: =VLOOKUP(A2,検体情報_16S!$A$13:$M$1048576,12,FALSE) -> 0 | H2: =VLOOKUP(A2,検体情報_16S!$A$13:$M$1048576,13,FALSE) -> 0 | I2: =VLOOKUP(A2,グループ情報_16S!$B$16:$G$1048576,3,FALSE) -> 0 | J2: =VLOOKUP(A2,グループ情報_16S!$B$16:$G$1048576,4,FALSE) -> 0 | K2: =VLOOKUP(A2,グループ情報_16S!$B$16:$G$1048576,5,FALSE) -> 0 | L2: =VLOOKUP(A2,グループ情報_16S!$B$16:$G$1048576,6,FALSE) -> 0
A3: 2 | B3: B01 | C3: =VLOOKUP(A3,検体情報_16S!$A$13:$M$1048576,3,FALSE) -> 0 | D3: =VLOOKUP(A3,検体情報_16S!$A$13:$M$1048576,9,FALSE) -> 0 | E3: =VLOOKUP(A3,検体情報_16S!$A$13:$M$1048576,10,FALSE) -> 0 | F3: =VLOOKUP(A3,検体情報_16S!$A$13:$M$1048576,11,FALSE) -> 0 | G3: =VLOOKUP(A3,検体情報_16S!$A$13:$M$1048576,12,FALSE) -> 0 | H3: =VLOOKUP(A3,検体情報_16S!$A$13:$M$1048576,13,FALSE) -> 0 | I3: =VLOOKUP(A3,グループ情報_16S!$B$16:$G$1048576,3,FALSE) -> 0 | J3: =VLOOKUP(A3,グループ情報_16S!$B$16:$G$1048576,4,FALSE) -> 0 | K3: =VLOOKUP(A3,グループ情報_16S!$B$16:$G$1048576,5,FALSE) -> 0 | L3: =VLOOKUP(A3,グループ情報_16S!$B$16:$G$1048576,6,FALSE) -> 0
A4: 3 | B4: C01 | C4: =VLOOKUP(A4,検体情報_16S!$A$13:$M$1048576,3,FALSE) -> 0 | D4: =VLOOKUP(A4,検体情報_16S!$A$13:$M$1048576,9,FALSE) -> 0 | E4: =VLOOKUP(A4,検体情報_16S!$A$13:$M$1048576,10,FALSE) -> 0 | F4: =VLOOKUP(A4,検体情報_16S!$A$13:$M$1048576,11,FALSE) -> 0 | G4: =VLOOKUP(A4,検体情報_16S!$A$13:$M$1048576,12,FALSE) -> 0 | H4: =VLOOKUP(A4,検体情報_16S!$A$13:$M$1048576,13,FALSE) -> 0 | I4: =VLOOKUP(A4,グループ情報_16S!$B$16:$G$1048576,3,FALSE) -> 0 | J4: =VLOOKUP(A4,グループ情報_16S!$B$16:$G$1048576,4,FALSE) -> 0 | K4: =VLOOKUP(A4,グループ情報_16S!$B$16:$G$1048576,5,FALSE) -> 0 | L4: =VLOOKUP(A4,グループ情報_16S!$B$16:$G$1048576,6,FALSE) -> 0
A5: 4 | B5: D01 | C5: =VLOOKUP(A5,検体情報_16S!$A$13:$M$1048576,3,FALSE) -> 0 | D5: =VLOOKUP(A5,検体情報_16S!$A$13:$M$1048576,9,FALSE) -> 0 | E5: =VLOOKUP(A5,検体情報_16S!$A$13:$M$1048576,10,FALSE) -> 0 | F5: =VLOOKUP(A5,検体情報_16S!$A$13:$M$1048576,11,FALSE) -> 0 | G5: =VLOOKUP(A5,検体情報_16S!$A$13:$M$1048576,12,FALSE) -> 0 | H5: =VLOOKUP(A5,検体情報_16S!$A$13:$M$1048576,13,FALSE) -> 0 | I5: =VLOOKUP(A5,グループ情報_16S!$B$16:$G$1048576,3,FALSE) -> 0 | J5: =VLOOKUP(A5,グループ情報_16S!$B$16:$G$1048576,4,FALSE) -> 0 | K5: =VLOOKUP(A5,グループ情報_16S!$B$16:$G$1048576,5,FALSE) -> 0 | L5: =VLOOKUP(A5,グループ情報_16S!$B$16:$G$1048576,6,FALSE) -> 0
A6: 5 | B6: E01 | C6: =VLOOKUP(A6,検体情報_16S!$A$13:$M$1048576,3,FALSE) -> 0 | D6: =VLOOKUP(A6,検体情報_16S!$A$13:$M$1048576,9,FALSE) -> 0 | E6: =VLOOKUP(A6,検体情報_16S!$A$13:$M$1048576,10,FALSE) -> 0 | F6: =VLOOKUP(A6,検体情報_16S!$A$13:$M$1048576,11,FALSE) -> 0 | G6: =VLOOKUP(A6,検体情報_16S!$A$13:$M$1048576,12,FALSE) -> 0 | H6: =VLOOKUP(A6,検体情報_16S!$A$13:$M$1048576,13,FALSE) -> 0 | I6: =VLOOKUP(A6,グループ情報_16S!$B$16:$G$1048576,3,FALSE) -> 0 | J6: =VLOOKUP(A6,グループ情報_16S!$B$16:$G$1048576,4,FALSE) -> 0 | K6: =VLOOKUP(A6,グループ情報_16S!$B$16:$G$1048576,5,FALSE) -> 0 | L6: =VLOOKUP(A6,グループ情報_16S!$B$16:$G$1048576,6,FALSE) -> 0
A7: 6 | B7: F01 | C7: =VLOOKUP(A7,検体情報_16S!$A$13:$M$1048576,3,FALSE) -> 0 | D7: =VLOOKUP(A7,検体情報_16S!$A$13:$M$1048576,9,FALSE) -> 0 | E7: =VLOOKUP(A7,検体情報_16S!$A$13:$M$1048576,10,FALSE) -> 0 | F7: =VLOOKUP(A7,検体情報_16S!$A$13:$M$1048576,11,FALSE) -> 0 | G7: =VLOOKUP(A7,検体情報_16S!$A$13:$M$1048576,12,FALSE) -> 0 | H7: =VLOOKUP(A7,検体情報_16S!$A$13:$M$1048576,13,FALSE) -> 0 | I7: =VLOOKUP(A7,グループ情報_16S!$B$16:$G$1048576,3,FALSE) -> 0 | J7: =VLOOKUP(A7,グループ情報_16S!$B$16:$G$1048576,4,FALSE) -> 0 | K7: =VLOOKUP(A7,グループ情報_16S!$B$16:$G$1048576,5,FALSE) -> 0 | L7: =VLOOKUP(A7,グループ情報_16S!$B$16:$G$1048576,6,FALSE) -> 0
A8: 7 | B8: G01 | C8: =VLOOKUP(A8,検体情報_16S!$A$13:$M$1048576,3,FALSE) -> 0 | D8: =VLOOKUP(A8,検体情報_16S!$A$13:$M$1048576,9,FALSE) -> 0 | E8: =VLOOKUP(A8,検体情報_16S!$A$13:$M$1048576,10,FALSE) -> 0 | F8: =VLOOKUP(A8,検体情報_16S!$A$13:$M$1048576,11,FALSE) -> 0 | G8: =VLOOKUP(A8,検体情報_16S!$A$13:$M$1048576,12,FALSE) -> 0 | H8: =VLOOKUP(A8,検体情報_16S!$A$13:$M$1048576,13,FALSE) -> 0 | I8: =VLOOKUP(A8,グループ情報_16S!$B$16:$G$1048576,3,FALSE) -> 0 | J8: =VLOOKUP(A8,グループ情報_16S!$B$16:$G$1048576,4,FALSE) -> 0 | K8: =VLOOKUP(A8,グループ情報_16S!$B$16:$G$1048576,5,FALSE) -> 0 | L8: =VLOOKUP(A8,グループ情報_16S!$B$16:$G$1048576,6,FALSE) -> 0
A9: 8 | B9: H01 | C9: =VLOOKUP(A9,検体情報_16S!$A$13:$M$1048576,3,FALSE) -> 0 | D9: =VLOOKUP(A9,検体情報_16S!$A$13:$M$1048576,9,FALSE) -> 0 | E9: =VLOOKUP(A9,検体情報_16S!$A$13:$M$1048576,10,FALSE) -> 0 | F9: =VLOOKUP(A9,検体情報_16S!$A$13:$M$1048576,11,FALSE) -> 0 | G9: =VLOOKUP(A9,検体情報_16S!$A$13:$M$1048576,12,FALSE) -> 0 | H9: =VLOOKUP(A9,検体情報_16S!$A$13:$M$1048576,13,FALSE) -> 0 | I9: =VLOOKUP(A9,グループ情報_16S!$B$16:$G$1048576,3,FALSE) -> 0 | J9: =VLOOKUP(A9,グループ情報_16S!$B$16:$G$1048576,4,FALSE) -> 0 | K9: =VLOOKUP(A9,グループ情報_16S!$B$16:$G$1048576,5,FALSE) -> 0 | L9: =VLOOKUP(A9,グループ情報_16S!$B$16:$G$1048576,6,FALSE) -> 0
A10: 9 | B10: A02 | C10: =VLOOKUP(A10,検体情報_16S!$A$13:$M$1048576,3,FALSE) -> 0 | D10: =VLOOKUP(A10,検体情報_16S!$A$13:$M$1048576,9,FALSE) -> 0 | E10: =VLOOKUP(A10,検体情報_16S!$A$13:$M$1048576,10,FALSE) -> 0 | F10: =VLOOKUP(A10,検体情報_16S!$A$13:$M$1048576,11,FALSE) -> 0 | G10: =VLOOKUP(A10,検体情報_16S!$A$13:$M$1048576,12,FALSE) -> 0 | H10: =VLOOKUP(A10,検体情報_16S!$A$13:$M$1048576,13,FALSE) -> 0 | I10: =VLOOKUP(A10,グループ情報_16S!$B$16:$G$1048576,3,FALSE) -> 0 | J10: =VLOOKUP(A10,グループ情報_16S!$B$16:$G$1048576,4,FALSE) -> 0 | K10: =VLOOKUP(A10,グループ情報_16S!$B$16:$G$1048576,5,FALSE) -> 0 | L10: =VLOOKUP(A10,グループ情報_16S!$B$16:$G$1048576,6,FALSE) -> 0
A11: 10 | B11: B02 | C11: =VLOOKUP(A11,検体情報_16S!$A$13:$M$1048576,3,FALSE) -> 0 | D11: =VLOOKUP(A11,検体情報_16S!$A$13:$M$1048576,9,FALSE) -> 0 | E11: =VLOOKUP(A11,検体情報_16S!$A$13:$M$1048576,10,FALSE) -> 0 | F11: =VLOOKUP(A11,検体情報_16S!$A$13:$M$1048576,11,FALSE) -> 0 | G11: =VLOOKUP(A11,検体情報_16S!$A$13:$M$1048576,12,FALSE) -> 0 | H11: =VLOOKUP(A11,検体情報_16S!$A$13:$M$1048576,13,FALSE) -> 0 | I11: =VLOOKUP(A11,グループ情報_16S!$B$16:$G$1048576,3,FALSE) -> 0 | J11: =VLOOKUP(A11,グループ情報_16S!$B$16:$G$1048576,4,FALSE) -> 0 | K11: =VLOOKUP(A11,グループ情報_16S!$B$16:$G$1048576,5,FALSE) -> 0 | L11: =VLOOKUP(A11,グループ情報_16S!$B$16:$G$1048576,6,FALSE) -> 0
A12: 11 | B12: C02 | C12: =VLOOKUP(A12,検体情報_16S!$A$13:$M$1048576,3,FALSE) -> 0 | D12: =VLOOKUP(A12,検体情報_16S!$A$13:$M$1048576,9,FALSE) -> 0 | E12: =VLOOKUP(A12,検体情報_16S!$A$13:$M$1048576,10,FALSE) -> 0 | F12: =VLOOKUP(A12,検体情報_16S!$A$13:$M$1048576,11,FALSE) -> 0 | G12: =VLOOKUP(A12,検体情報_16S!$A$13:$M$1048576,12,FALSE) -> 0 | H12: =VLOOKUP(A12,検体情報_16S!$A$13:$M$1048576,13,FALSE) -> 0 | I12: =VLOOKUP(A12,グループ情報_16S!$B$16:$G$1048576,3,FALSE) -> 0 | J12: =VLOOKUP(A12,グループ情報_16S!$B$16:$G$1048576,4,FALSE) -> 0 | K12: =VLOOKUP(A12,グループ情報_16S!$B$16:$G$1048576,5,FALSE) -> 0 | L12: =VLOOKUP(A12,グループ情報_16S!$B$16:$G$1048576,6,FALSE) -> 0
A13: 12 | B13: D02 | C13: =VLOOKUP(A13,検体情報_16S!$A$13:$M$1048576,3,FALSE) -> 0 | D13: =VLOOKUP(A13,検体情報_16S!$A$13:$M$1048576,9,FALSE) -> 0 | E13: =VLOOKUP(A13,検体情報_16S!$A$13:$M$1048576,10,FALSE) -> 0 | F13: =VLOOKUP(A13,検体情報_16S!$A$13:$M$1048576,11,FALSE) -> 0 | G13: =VLOOKUP(A13,検体情報_16S!$A$13:$M$1048576,12,FALSE) -> 0 | H13: =VLOOKUP(A13,検体情報_16S!$A$13:$M$1048576,13,FALSE) -> 0 | I13: =VLOOKUP(A13,グループ情報_16S!$B$16:$G$1048576,3,FALSE) -> 0 | J13: =VLOOKUP(A13,グループ情報_16S!$B$16:$G$1048576,4,FALSE) -> 0 | K13: =VLOOKUP(A13,グループ情報_16S!$B$16:$G$1048576,5,FALSE) -> 0 | L13: =VLOOKUP(A13,グループ情報_16S!$B$16:$G$1048576,6,FALSE) -> 0
... A97: 96 | B97: H12 | C97: =VLOOKUP(A97,検体情報_16S!$A$13:$M$1048576,3,FALSE) -> 0 | D97: =VLOOKUP(A97,検体情報_16S!$A$13:$M$1048576,9,FALSE) -> 0 | E97: =VLOOKUP(A97,検体情報_16S!$A$13:$M$1048576,10,FALSE) -> 0 | F97: =VLOOKUP(A97,検体情報_16S!$A$13:$M$1048576,11,FALSE) -> 0 | G97: =VLOOKUP(A97,検体情報_16S!$A$13:$M$1048576,12,FALSE) -> 0 | H97: =VLOOKUP(A97,検体情報_16S!$A$13:$M$1048576,13,FALSE) -> 0 | I97: =VLOOKUP(A97,グループ情報_16S!$B$16:$G$1048576,3,FALSE) -> 0 | J97: =VLOOKUP(A97,グループ情報_16S!$B$16:$G$1048576,4,FALSE) -> 0 | K97: =VLOOKUP(A97,グループ情報_16S!$B$16:$G$1048576,5,FALSE) -> 0 | L97: =VLOOKUP(A97,グループ情報_16S!$B$16:$G$1048576,6,FALSE) -> 0

Sheet 検体情報_ショットガン
M1: タカラバイオ株式会社 宛
A2: TaKaRa Custom Services
A3: ショットガンメタゲノム解析 サンプル情報シート
A4: ※弊社送付の採便キットを使用の場合は、サンプル情報_(採便キット用) サンプルシートに記載ください。
A5: 氏名 | C5: =IF(依頼書!H7="","",依頼書!H7) -> 0
A6: 所属 | C6: =IF(依頼書!H8="","",依頼書!H8) -> 0
A7: 送付サンプル | C7: □ | D7: チューブ | F7: □ | G7: プレート | H7: ※DNAサンプル 24検体以上はプレート提供でお願いいたします。
A8: プレート名 | I8: 複数プレートの場合はこのシートをコピーしてご使用ください。
A9: サンプル情報 | I9: 組織等の場合は、重量(mg)または液量(µL)を記載ください。
B10: well | C10: サンプル名称 (半角英数字および.(ﾄﾞｯﾄ)、_(ｱﾝﾀﾞｰﾊﾞｰ)のみご使用ください。 数字のみ、-(ﾊｲﾌﾝ)は使用出来ません。) | I10: 抽出時の 溶出液量 (µL) | J10: 抽出DNA 濃度 (ng/µL) | K10: 送付量 (ng) | L10: OD260/280 | M10: OD260/230
A11: 例 | B11: - | C11: Stool_01 | I11: 55 | J11: 50 | K11: 1650 | L11: 5 | M11: 1.2
A12: 例 | B12: - | C12: Soil | I12: 55 | J12: 50 | K12: 2750 | L12: 5 | M12: 1.2
A13: 1 | B13: A01
A14: 2 | B14: B01
A15: 3 | B15: C01
A16: 4 | B16: D01
A17: 5 | B17: E01
A18: 6 | B18: F01
A19: 7 | B19: G01
A20: 8 | B20: H01
A21: 9 | B21: A02
A22: 10 | B22: B02
A23: 11 | B23: C02
A24: 12 | B24: D02
... A106: 94 | B106: F12
A107: 95 | B107: G12 | C107: 空ウェル | I107: - | J107: - | K107: - | L107: - | M107: -
A108: 96 | B108: H12 | C108: 空ウェル | I108: - | J108: - | K108: - | L108: - | M108: -

Sheet グループ情報_ショットガン
B1: ショットガンメタゲノム解析 グループ情報
B2: 氏名
B3: 所属
B4: グループ情報記載欄には、実験setごとにグループ情報を記載ください。
B6: ※サンプル名称には半角英数字および.(ﾄﾞｯﾄ)、_(ｱﾝﾀﾞｰﾊﾞｰ)のみご使用ください。 半角数字のみ、-(ﾊｲﾌﾝ)は使用出来ません。
B7: ※グループ情報、グループset名には半角英数字および _(ｱﾝﾀﾞｰﾊﾞｰ)、-(ﾊｲﾌﾝ)のみご使用ください。半角数字のみはご使用できません。
B8: ※解析の比較グループSetは最大４Setまで指定いただけます。4Set以上をご希望の場合はご相談ください。
B9: ※グループを指定しない場合は"-"のままとしてください。またグループset内で比較に使用しないサンプルについても"-"のままとしてください。
B10: その場合"-"というグループ情報で解析されますので、ご了承ください。
B12: グループ情報記載例と使用例は下記webページをご参照ください。
B13: https://catalog.takara-bio.co.jp/product/basic_info.php?unitid=U100009401
B14: 検体 No | C14: サンプル名称 （検体No.とサンプル名称は「サンプル情報シート」の記載と必ず揃えてください。） | D14: グループ情報 （セット名は必要に応じて変更可能です）
D15: SetA | E15: SetB | F15: SetC | G15: SetD
B16: 1 | C16: =IF(検体情報_ショットガン!C13="","",検体情報_ショットガン!C13) -> 0 | D16: - | E16: - | F16: - | G16: -
B17: 2 | C17: =IF(検体情報_ショットガン!C14="","",検体情報_ショットガン!C14) -> 0 | D17: - | E17: - | F17: - | G17: -
B18: 3 | C18: =IF(検体情報_ショットガン!C15="","",検体情報_ショットガン!C15) -> 0 | D18: - | E18: - | F18: - | G18: -
B19: 4 | C19: =IF(検体情報_ショットガン!C16="","",検体情報_ショットガン!C16) -> 0 | D19: - | E19: - | F19: - | G19: -
B20: 5 | C20: =IF(検体情報_ショットガン!C17="","",検体情報_ショットガン!C17) -> 0 | D20: - | E20: - | F20: - | G20: -
B21: 6 | C21: =IF(検体情報_ショットガン!C18="","",検体情報_ショットガン!C18) -> 0 | D21: - | E21: - | F21: - | G21: -
B22: 7 | C22: =IF(検体情報_ショットガン!C19="","",検体情報_ショットガン!C19) -> 0 | D22: - | E22: - | F22: - | G22: -
B23: 8 | C23: =IF(検体情報_ショットガン!C20="","",検体情報_ショットガン!C20) -> 0 | D23: - | E23: - | F23: - | G23: -
B24: 9 | C24: =IF(検体情報_ショットガン!C21="","",検体情報_ショットガン!C21) -> 0 | D24: - | E24: - | F24: - | G24: -
B25: 10 | C25: =IF(検体情報_ショットガン!C22="","",検体情報_ショットガン!C22) -> 0 | D25: - | E25: - | F25: - | G25: -
B26: 11 | C26: =IF(検体情報_ショットガン!C23="","",検体情報_ショットガン!C23) -> 0 | D26: - | E26: - | F26: - | G26: -
B27: 12 | C27: =IF(検体情報_ショットガン!C24="","",検体情報_ショットガン!C24) -> 0 | D27: - | E27: - | F27: - | G27: -
... B111: 96 | C111: =IF(検体情報_ショットガン!C108="","",検体情報_ショットガン!C108) -> 0 | D111: - | E111: - | F111: - | G111: -

Sheet ショットガン_サマリーシート 
A1: No. | B1: well | C1: サンプル名称 | D1: 抽出時の 溶出液量 (µL) | E1: 濃度 (ng/µL) | F1: 送付量 (ng) | G1: OD260/280 | H1: OD260/230 | I1: =グループ情報_ショットガン!D15 -> 0 | J1: =グループ情報_ショットガン!E15 -> 0 | K1: =グループ情報_ショットガン!F15 -> 0 | L1: =グループ情報_ショットガン!G15 -> 0
A2: 1 | B2: A01 | C2: =VLOOKUP(A2,検体情報_ショットガン!$A$13:$O$1048576,3,FALSE) -> 0 | D2: =VLOOKUP(A2,検体情報_ショットガン!$A$13:$P$1048576,9,FALSE) -> 0 | E2: =VLOOKUP(A2,検体情報_ショットガン!$A$13:$O$1048576,10,FALSE) -> 0 | F2: =VLOOKUP(A2,検体情報_ショットガン!$A$13:$P$1048576,11,FALSE) -> 0 | G2: =VLOOKUP(A2,検体情報_ショットガン!$A$13:$P$1048576,12,FALSE) -> 0 | H2: =VLOOKUP(A2,検体情報_ショットガン!$A$13:$P$1048576,13,FALSE) -> 0 | I2: =VLOOKUP(A2,グループ情報_ショットガン!$B$16:$G$1048576,3,FALSE) -> 0 | J2: =VLOOKUP(A2,グループ情報_ショットガン!$B$16:$G$1048576,4,FALSE) -> 0 | K2: =VLOOKUP(A2,グループ情報_ショットガン!$B$16:$G$1048576,5,FALSE) -> 0 | L2: =VLOOKUP(A2,グループ情報_ショットガン!$B$16:$G$1048576,6,FALSE) -> 0
A3: 2 | B3: B01 | C3: =VLOOKUP(A3,検体情報_ショットガン!$A$13:$O$1048576,3,FALSE) -> 0 | D3: =VLOOKUP(A3,検体情報_ショットガン!$A$13:$P$1048576,9,FALSE) -> 0 | E3: =VLOOKUP(A3,検体情報_ショットガン!$A$13:$O$1048576,10,FALSE) -> 0 | F3: =VLOOKUP(A3,検体情報_ショットガン!$A$13:$P$1048576,11,FALSE) -> 0 | G3: =VLOOKUP(A3,検体情報_ショットガン!$A$13:$P$1048576,12,FALSE) -> 0 | H3: =VLOOKUP(A3,検体情報_ショットガン!$A$13:$P$1048576,13,FALSE) -> 0 | I3: =VLOOKUP(A3,グループ情報_ショットガン!$B$16:$G$1048576,3,FALSE) -> 0 | J3: =VLOOKUP(A3,グループ情報_ショットガン!$B$16:$G$1048576,4,FALSE) -> 0 | K3: =VLOOKUP(A3,グループ情報_ショットガン!$B$16:$G$1048576,5,FALSE) -> 0 | L3: =VLOOKUP(A3,グループ情報_ショットガン!$B$16:$G$1048576,6,FALSE) -> 0
A4: 3 | B4: C01 | C4: =VLOOKUP(A4,検体情報_ショットガン!$A$13:$O$1048576,3,FALSE) -> 0 | D4: =VLOOKUP(A4,検体情報_ショットガン!$A$13:$P$1048576,9,FALSE) -> 0 | E4: =VLOOKUP(A4,検体情報_ショットガン!$A$13:$O$1048576,10,FALSE) -> 0 | F4: =VLOOKUP(A4,検体情報_ショットガン!$A$13:$P$1048576,11,FALSE) -> 0 | G4: =VLOOKUP(A4,検体情報_ショットガン!$A$13:$P$1048576,12,FALSE) -> 0 | H4: =VLOOKUP(A4,検体情報_ショットガン!$A$13:$P$1048576,13,FALSE) -> 0 | I4: =VLOOKUP(A4,グループ情報_ショットガン!$B$16:$G$1048576,3,FALSE) -> 0 | J4: =VLOOKUP(A4,グループ情報_ショットガン!$B$16:$G$1048576,4,FALSE) -> 0 | K4: =VLOOKUP(A4,グループ情報_ショットガン!$B$16:$G$1048576,5,FALSE) -> 0 | L4: =VLOOKUP(A4,グループ情報_ショットガン!$B$16:$G$1048576,6,FALSE) -> 0
A5: 4 | B5: D01 | C5: =VLOOKUP(A5,検体情報_ショットガン!$A$13:$O$1048576,3,FALSE) -> 0 | D5: =VLOOKUP(A5,検体情報_ショットガン!$A$13:$P$1048576,9,FALSE) -> 0 | E5: =VLOOKUP(A5,検体情報_ショットガン!$A$13:$O$1048576,10,FALSE) -> 0 | F5: =VLOOKUP(A5,検体情報_ショットガン!$A$13:$P$1048576,11,FALSE) -> 0 | G5: =VLOOKUP(A5,検体情報_ショットガン!$A$13:$P$1048576,12,FALSE) -> 0 | H5: =VLOOKUP(A5,検体情報_ショットガン!$A$13:$P$1048576,13,FALSE) -> 0 | I5: =VLOOKUP(A5,グループ情報_ショットガン!$B$16:$G$1048576,3,FALSE) -> 0 | J5: =VLOOKUP(A5,グループ情報_ショットガン!$B$16:$G$1048576,4,FALSE) -> 0 | K5: =VLOOKUP(A5,グループ情報_ショットガン!$B$16:$G$1048576,5,FALSE) -> 0 | L5: =VLOOKUP(A5,グループ情報_ショットガン!$B$16:$G$1048576,6,FALSE) -> 0
A6: 5 | B6: E01 | C6: =VLOOKUP(A6,検体情報_ショットガン!$A$13:$O$1048576,3,FALSE) -> 0 | D6: =VLOOKUP(A6,検体情報_ショットガン!$A$13:$P$1048576,9,FALSE) -> 0 | E6: =VLOOKUP(A6,検体情報_ショットガン!$A$13:$O$1048576,10,FALSE) -> 0 | F6: =VLOOKUP(A6,検体情報_ショットガン!$A$13:$P$1048576,11,FALSE) -> 0 | G6: =VLOOKUP(A6,検体情報_ショットガン!$A$13:$P$1048576,12,FALSE) -> 0 | H6: =VLOOKUP(A6,検体情報_ショットガン!$A$13:$P$1048576,13,FALSE) -> 0 | I6: =VLOOKUP(A6,グループ情報_ショットガン!$B$16:$G$1048576,3,FALSE) -> 0 | J6: =VLOOKUP(A6,グループ情報_ショットガン!$B$16:$G$1048576,4,FALSE) -> 0 | K6: =VLOOKUP(A6,グループ情報_ショットガン!$B$16:$G$1048576,5,FALSE) -> 0 | L6: =VLOOKUP(A6,グループ情報_ショットガン!$B$16:$G$1048576,6,FALSE) -> 0
A7: 6 | B7: F01 | C7: =VLOOKUP(A7,検体情報_ショットガン!$A$13:$O$1048576,3,FALSE) -> 0 | D7: =VLOOKUP(A7,検体情報_ショットガン!$A$13:$P$1048576,9,FALSE) -> 0 | E7: =VLOOKUP(A7,検体情報_ショットガン!$A$13:$O$1048576,10,FALSE) -> 0 | F7: =VLOOKUP(A7,検体情報_ショットガン!$A$13:$P$1048576,11,FALSE) -> 0 | G7: =VLOOKUP(A7,検体情報_ショットガン!$A$13:$P$1048576,12,FALSE) -> 0 | H7: =VLOOKUP(A7,検体情報_ショットガン!$A$13:$P$1048576,13,FALSE) -> 0 | I7: =VLOOKUP(A7,グループ情報_ショットガン!$B$16:$G$1048576,3,FALSE) -> 0 | J7: =VLOOKUP(A7,グループ情報_ショットガン!$B$16:$G$1048576,4,FALSE) -> 0 | K7: =VLOOKUP(A7,グループ情報_ショットガン!$B$16:$G$1048576,5,FALSE) -> 0 | L7: =VLOOKUP(A7,グループ情報_ショットガン!$B$16:$G$1048576,6,FALSE) -> 0
A8: 7 | B8: G01 | C8: =VLOOKUP(A8,検体情報_ショットガン!$A$13:$O$1048576,3,FALSE) -> 0 | D8: =VLOOKUP(A8,検体情報_ショットガン!$A$13:$P$1048576,9,FALSE) -> 0 | E8: =VLOOKUP(A8,検体情報_ショットガン!$A$13:$O$1048576,10,FALSE) -> 0 | F8: =VLOOKUP(A8,検体情報_ショットガン!$A$13:$P$1048576,11,FALSE) -> 0 | G8: =VLOOKUP(A8,検体情報_ショットガン!$A$13:$P$1048576,12,FALSE) -> 0 | H8: =VLOOKUP(A8,検体情報_ショットガン!$A$13:$P$1048576,13,FALSE) -> 0 | I8: =VLOOKUP(A8,グループ情報_ショットガン!$B$16:$G$1048576,3,FALSE) -> 0 | J8: =VLOOKUP(A8,グループ情報_ショットガン!$B$16:$G$1048576,4,FALSE) -> 0 | K8: =VLOOKUP(A8,グループ情報_ショットガン!$B$16:$G$1048576,5,FALSE) -> 0 | L8: =VLOOKUP(A8,グループ情報_ショットガン!$B$16:$G$1048576,6,FALSE) -> 0
A9: 8 | B9: H01 | C9: =VLOOKUP(A9,検体情報_ショットガン!$A$13:$O$1048576,3,FALSE) -> 0 | D9: =VLOOKUP(A9,検体情報_ショットガン!$A$13:$P$1048576,9,FALSE) -> 0 | E9: =VLOOKUP(A9,検体情報_ショットガン!$A$13:$O$1048576,10,FALSE) -> 0 | F9: =VLOOKUP(A9,検体情報_ショットガン!$A$13:$P$1048576,11,FALSE) -> 0 | G9: =VLOOKUP(A9,検体情報_ショットガン!$A$13:$P$1048576,12,FALSE) -> 0 | H9: =VLOOKUP(A9,検体情報_ショットガン!$A$13:$P$1048576,13,FALSE) -> 0 | I9: =VLOOKUP(A9,グループ情報_ショットガン!$B$16:$G$1048576,3,FALSE) -> 0 | J9: =VLOOKUP(A9,グループ情報_ショットガン!$B$16:$G$1048576,4,FALSE) -> 0 | K9: =VLOOKUP(A9,グループ情報_ショットガン!$B$16:$G$1048576,5,FALSE) -> 0 | L9: =VLOOKUP(A9,グループ情報_ショットガン!$B$16:$G$1048576,6,FALSE) -> 0
A10: 9 | B10: A02 | C10: =VLOOKUP(A10,検体情報_ショットガン!$A$13:$O$1048576,3,FALSE) -> 0 | D10: =VLOOKUP(A10,検体情報_ショットガン!$A$13:$P$1048576,9,FALSE) -> 0 | E10: =VLOOKUP(A10,検体情報_ショットガン!$A$13:$O$1048576,10,FALSE) -> 0 | F10: =VLOOKUP(A10,検体情報_ショットガン!$A$13:$P$1048576,11,FALSE) -> 0 | G10: =VLOOKUP(A10,検体情報_ショットガン!$A$13:$P$1048576,12,FALSE) -> 0 | H10: =VLOOKUP(A10,検体情報_ショットガン!$A$13:$P$1048576,13,FALSE) -> 0 | I10: =VLOOKUP(A10,グループ情報_ショットガン!$B$16:$G$1048576,3,FALSE) -> 0 | J10: =VLOOKUP(A10,グループ情報_ショットガン!$B$16:$G$1048576,4,FALSE) -> 0 | K10: =VLOOKUP(A10,グループ情報_ショットガン!$B$16:$G$1048576,5,FALSE) -> 0 | L10: =VLOOKUP(A10,グループ情報_ショットガン!$B$16:$G$1048576,6,FALSE) -> 0
A11: 10 | B11: B02 | C11: =VLOOKUP(A11,検体情報_ショットガン!$A$13:$O$1048576,3,FALSE) -> 0 | D11: =VLOOKUP(A11,検体情報_ショットガン!$A$13:$P$1048576,9,FALSE) -> 0 | E11: =VLOOKUP(A11,検体情報_ショットガン!$A$13:$O$1048576,10,FALSE) -> 0 | F11: =VLOOKUP(A11,検体情報_ショットガン!$A$13:$P$1048576,11,FALSE) -> 0 | G11: =VLOOKUP(A11,検体情報_ショットガン!$A$13:$P$1048576,12,FALSE) -> 0 | H11: =VLOOKUP(A11,検体情報_ショットガン!$A$13:$P$1048576,13,FALSE) -> 0 | I11: =VLOOKUP(A11,グループ情報_ショットガン!$B$16:$G$1048576,3,FALSE) -> 0 | J11: =VLOOKUP(A11,グループ情報_ショットガン!$B$16:$G$1048576,4,FALSE) -> 0 | K11: =VLOOKUP(A11,グループ情報_ショットガン!$B$16:$G$1048576,5,FALSE) -> 0 | L11: =VLOOKUP(A11,グループ情報_ショットガン!$B$16:$G$1048576,6,FALSE) -> 0
A12: 11 | B12: C02 | C12: =VLOOKUP(A12,検体情報_ショットガン!$A$13:$O$1048576,3,FALSE) -> 0 | D12: =VLOOKUP(A12,検体情報_ショットガン!$A$13:$P$1048576,9,FALSE) -> 0 | E12: =VLOOKUP(A12,検体情報_ショットガン!$A$13:$O$1048576,10,FALSE) -> 0 | F12: =VLOOKUP(A12,検体情報_ショットガン!$A$13:$P$1048576,11,FALSE) -> 0 | G12: =VLOOKUP(A12,検体情報_ショットガン!$A$13:$P$1048576,12,FALSE) -> 0 | H12: =VLOOKUP(A12,検体情報_ショットガン!$A$13:$P$1048576,13,FALSE) -> 0 | I12: =VLOOKUP(A12,グループ情報_ショットガン!$B$16:$G$1048576,3,FALSE) -> 0 | J12: =VLOOKUP(A12,グループ情報_ショットガン!$B$16:$G$1048576,4,FALSE) -> 0 | K12: =VLOOKUP(A12,グループ情報_ショットガン!$B$16:$G$1048576,5,FALSE) -> 0 | L12: =VLOOKUP(A12,グループ情報_ショットガン!$B$16:$G$1048576,6,FALSE) -> 0
A13: 12 | B13: D02 | C13: =VLOOKUP(A13,検体情報_ショットガン!$A$13:$O$1048576,3,FALSE) -> 0 | D13: =VLOOKUP(A13,検体情報_ショットガン!$A$13:$P$1048576,9,FALSE) -> 0 | E13: =VLOOKUP(A13,検体情報_ショットガン!$A$13:$O$1048576,10,FALSE) -> 0 | F13: =VLOOKUP(A13,検体情報_ショットガン!$A$13:$P$1048576,11,FALSE) -> 0 | G13: =VLOOKUP(A13,検体情報_ショットガン!$A$13:$P$1048576,12,FALSE) -> 0 | H13: =VLOOKUP(A13,検体情報_ショットガン!$A$13:$P$1048576,13,FALSE) -> 0 | I13: =VLOOKUP(A13,グループ情報_ショットガン!$B$16:$G$1048576,3,FALSE) -> 0 | J13: =VLOOKUP(A13,グループ情報_ショットガン!$B$16:$G$1048576,4,FALSE) -> 0 | K13: =VLOOKUP(A13,グループ情報_ショットガン!$B$16:$G$1048576,5,FALSE) -> 0 | L13: =VLOOKUP(A13,グループ情報_ショットガン!$B$16:$G$1048576,6,FALSE) -> 0
... A97: 96 | B97: H12 | C97: =VLOOKUP(A97,検体情報_ショットガン!$A$13:$O$1048576,3,FALSE) -> 0 | D97: =VLOOKUP(A97,検体情報_ショットガン!$A$13:$P$1048576,9,FALSE) -> 0 | E97: =VLOOKUP(A97,検体情報_ショットガン!$A$13:$O$1048576,10,FALSE) -> 0 | F97: =VLOOKUP(A97,検体情報_ショットガン!$A$13:$P$1048576,11,FALSE) -> 0 | G97: =VLOOKUP(A97,検体情報_ショットガン!$A$13:$P$1048576,12,FALSE) -> 0 | H97: =VLOOKUP(A97,検体情報_ショットガン!$A$13:$P$1048576,13,FALSE) -> 0 | I97: =VLOOKUP(A97,グループ情報_ショットガン!$B$16:$G$1048576,3,FALSE) -> 0 | J97: =VLOOKUP(A97,グループ情報_ショットガン!$B$16:$G$1048576,4,FALSE) -> 0 | K97: =VLOOKUP(A97,グループ情報_ショットガン!$B$16:$G$1048576,5,FALSE) -> 0 | L97: =VLOOKUP(A97,グループ情報_ショットガン!$B$16:$G$1048576,6,FALSE) -> 0
